BEGIN:VCALENDAR
VERSION:2.0
PRODID:-// - ECPv6.15.20//NONSGML v1.0//EN
CALSCALE:GREGORIAN
METHOD:PUBLISH
X-ORIGINAL-URL:https://tilos.ai
X-WR-CALDESC:Events for 
REFRESH-INTERVAL;VALUE=DURATION:PT1H
X-Robots-Tag:noindex
X-PUBLISHED-TTL:PT1H
BEGIN:VTIMEZONE
TZID:America/Los_Angeles
BEGIN:DAYLIGHT
TZOFFSETFROM:-0800
TZOFFSETTO:-0700
TZNAME:PDT
DTSTART:20220313T100000
END:DAYLIGHT
BEGIN:STANDARD
TZOFFSETFROM:-0700
TZOFFSETTO:-0800
TZNAME:PST
DTSTART:20221106T090000
END:STANDARD
BEGIN:DAYLIGHT
TZOFFSETFROM:-0800
TZOFFSETTO:-0700
TZNAME:PDT
DTSTART:20230312T100000
END:DAYLIGHT
BEGIN:STANDARD
TZOFFSETFROM:-0700
TZOFFSETTO:-0800
TZNAME:PST
DTSTART:20231105T090000
END:STANDARD
BEGIN:DAYLIGHT
TZOFFSETFROM:-0800
TZOFFSETTO:-0700
TZNAME:PDT
DTSTART:20240310T100000
END:DAYLIGHT
BEGIN:STANDARD
TZOFFSETFROM:-0700
TZOFFSETTO:-0800
TZNAME:PST
DTSTART:20241103T090000
END:STANDARD
END:VTIMEZONE
BEGIN:VEVENT
DTSTART;VALUE=DATE:20231103
DTEND;VALUE=DATE:20231104
DTSTAMP:20260423T122450
CREATED:20250904T175208Z
LAST-MODIFIED:20250904T182741Z
UID:7325-1698969600-1699055999@tilos.ai
SUMMARY:Boston Symmetry Day 2023
DESCRIPTION:TILOS is a sponsor of Boston Symmetry Day\, a meeting of symmetry-minded folks in the Boston area. It is the largest event on symmetry and machine learning in the United States. Registration is free for all who would like to attend\, subject to space constraints.
URL:https://tilos.ai/event/boston-symmetry-day-2023/
LOCATION:MIT
CATEGORIES:TILOS Sponsored Event
ATTACH;FMTTYPE=image/png:https://tilos.ai/wp-content/uploads/2025/08/boston-symmetry-group-e1698445385321-eiga9L.png
END:VEVENT
END:VCALENDAR