BEGIN:VCALENDAR
VERSION:2.0
PRODID:-// - ECPv6.15.20//NONSGML v1.0//EN
CALSCALE:GREGORIAN
METHOD:PUBLISH
X-ORIGINAL-URL:https://tilos.ai
X-WR-CALDESC:Events for 
REFRESH-INTERVAL;VALUE=DURATION:PT1H
X-Robots-Tag:noindex
X-PUBLISHED-TTL:PT1H
BEGIN:VTIMEZONE
TZID:America/Los_Angeles
BEGIN:DAYLIGHT
TZOFFSETFROM:-0800
TZOFFSETTO:-0700
TZNAME:PDT
DTSTART:20220313T100000
END:DAYLIGHT
BEGIN:STANDARD
TZOFFSETFROM:-0700
TZOFFSETTO:-0800
TZNAME:PST
DTSTART:20221106T090000
END:STANDARD
BEGIN:DAYLIGHT
TZOFFSETFROM:-0800
TZOFFSETTO:-0700
TZNAME:PDT
DTSTART:20230312T100000
END:DAYLIGHT
BEGIN:STANDARD
TZOFFSETFROM:-0700
TZOFFSETTO:-0800
TZNAME:PST
DTSTART:20231105T090000
END:STANDARD
BEGIN:DAYLIGHT
TZOFFSETFROM:-0800
TZOFFSETTO:-0700
TZNAME:PDT
DTSTART:20240310T100000
END:DAYLIGHT
BEGIN:STANDARD
TZOFFSETFROM:-0700
TZOFFSETTO:-0800
TZNAME:PST
DTSTART:20241103T090000
END:STANDARD
END:VTIMEZONE
BEGIN:VEVENT
DTSTART;TZID=America/Los_Angeles:20231117T093000
DTEND;TZID=America/Los_Angeles:20231117T103000
DTSTAMP:20260423T104505
CREATED:20250828T203006Z
LAST-MODIFIED:20250828T204333Z
UID:7323-1700213400-1700217000@tilos.ai
SUMMARY:Overview of the Executive Order on Safe\, Secure\, and Trustworthy Artificial Intelligence
DESCRIPTION:UC San Diego Professor of Data Science and Philosophy and TILOS affiliate David Danks will present an introduction to the U.S. Government’s Executive Order on Safe\, Secure\, and Trustworthy Artificial Intelligence for TILOS members. \nDavid Danks currently serves on the National AI Advisory Committee (NAIAC)\, which is tasked with advising the President and the National AI Initiative Office on topics related to AI. This talk will give an overview of the recent Executive Order and related activity by the U.S. Government in the space of AI (including regulation\, incentives\, and new programs). Ample time will be reserved for Q&A. \nThis is an internal TILOS event and will not be recorded.
URL:https://tilos.ai/event/overview-of-the-executive-order-on-safe-secure-and-trustworthy-artificial-intelligence/
LOCATION:HDSI 123 and Virtual\, 3234 Matthews Ln\, La Jolla\, CA\, 92093\, United States
CATEGORIES:Internal Events,TILOS Sponsored Event
ATTACH;FMTTYPE=image/jpeg:https://tilos.ai/wp-content/uploads/2023/10/danks-david-1-e1756412984106.jpg
END:VEVENT
END:VCALENDAR