BEGIN:VCALENDAR
VERSION:2.0
PRODID:-// - ECPv6.15.20//NONSGML v1.0//EN
CALSCALE:GREGORIAN
METHOD:PUBLISH
X-ORIGINAL-URL:https://tilos.ai
X-WR-CALDESC:Events for 
REFRESH-INTERVAL;VALUE=DURATION:PT1H
X-Robots-Tag:noindex
X-PUBLISHED-TTL:PT1H
BEGIN:VTIMEZONE
TZID:America/Los_Angeles
BEGIN:DAYLIGHT
TZOFFSETFROM:-0800
TZOFFSETTO:-0700
TZNAME:PDT
DTSTART:20230312T100000
END:DAYLIGHT
BEGIN:STANDARD
TZOFFSETFROM:-0700
TZOFFSETTO:-0800
TZNAME:PST
DTSTART:20231105T090000
END:STANDARD
BEGIN:DAYLIGHT
TZOFFSETFROM:-0800
TZOFFSETTO:-0700
TZNAME:PDT
DTSTART:20240310T100000
END:DAYLIGHT
BEGIN:STANDARD
TZOFFSETFROM:-0700
TZOFFSETTO:-0800
TZNAME:PST
DTSTART:20241103T090000
END:STANDARD
BEGIN:DAYLIGHT
TZOFFSETFROM:-0800
TZOFFSETTO:-0700
TZNAME:PDT
DTSTART:20250309T100000
END:DAYLIGHT
BEGIN:STANDARD
TZOFFSETFROM:-0700
TZOFFSETTO:-0800
TZNAME:PST
DTSTART:20251102T090000
END:STANDARD
END:VTIMEZONE
BEGIN:VEVENT
DTSTART;VALUE=DATE:20240315
DTEND;VALUE=DATE:20240317
DTSTAMP:20260423T115050
CREATED:20250904T175958Z
LAST-MODIFIED:20250904T182814Z
UID:7311-1710460800-1710633599@tilos.ai
SUMMARY:HDSI-TILOS “LLM Meets Theory” Workshop 2024
DESCRIPTION:The UC San Diego HDSI-TILOS “LLM Meets Theory” Workshop aims to bring together students and faculty to discuss the future of mathematical and scientific theory and large language models (LLMs). LLMs are like a miracle—not one that breaks the laws of nature (that would be impossible\, of course)\, but something that defied all expectations and could not be predicted just a few years ago. In particular\, the simplicity of the resulting statistical models (which are essentially Markov chains\, and are limited to only predicting the next token) came as a complete surprise to almost all of us. In view of this\, it is crucial to gain some understanding of the implications and potential trajectory of these models. Therefore\, at UCSD HDSI\, we plan to invite a few researchers for talks and also leave a lot of time for panel discussions.
URL:https://tilos.ai/event/hdsi-tilos-llm-meets-theory-workshop-2024/
LOCATION:HDSI 123\, 3234 Matthews Ln\, La Jolla\, CA\, 92093\, United States
CATEGORIES:TILOS Sponsored Event,Workshop
ATTACH;FMTTYPE=image/png:https://tilos.ai/wp-content/uploads/2024/02/HDSI.png
END:VEVENT
END:VCALENDAR