BEGIN:VCALENDAR
VERSION:2.0
PRODID:-// - ECPv6.15.20//NONSGML v1.0//EN
CALSCALE:GREGORIAN
METHOD:PUBLISH
X-ORIGINAL-URL:https://tilos.ai
X-WR-CALDESC:Events for 
REFRESH-INTERVAL;VALUE=DURATION:PT1H
X-Robots-Tag:noindex
X-PUBLISHED-TTL:PT1H
BEGIN:VTIMEZONE
TZID:America/Los_Angeles
BEGIN:DAYLIGHT
TZOFFSETFROM:-0800
TZOFFSETTO:-0700
TZNAME:PDT
DTSTART:20240310T100000
END:DAYLIGHT
BEGIN:STANDARD
TZOFFSETFROM:-0700
TZOFFSETTO:-0800
TZNAME:PST
DTSTART:20241103T090000
END:STANDARD
BEGIN:DAYLIGHT
TZOFFSETFROM:-0800
TZOFFSETTO:-0700
TZNAME:PDT
DTSTART:20250309T100000
END:DAYLIGHT
BEGIN:STANDARD
TZOFFSETFROM:-0700
TZOFFSETTO:-0800
TZNAME:PST
DTSTART:20251102T090000
END:STANDARD
BEGIN:DAYLIGHT
TZOFFSETFROM:-0800
TZOFFSETTO:-0700
TZNAME:PDT
DTSTART:20260308T100000
END:DAYLIGHT
BEGIN:STANDARD
TZOFFSETFROM:-0700
TZOFFSETTO:-0800
TZNAME:PST
DTSTART:20261101T090000
END:STANDARD
END:VTIMEZONE
BEGIN:VEVENT
DTSTART;TZID=America/Los_Angeles:20251204T120000
DTEND;TZID=America/Los_Angeles:20251204T140000
DTSTAMP:20260423T120932
CREATED:20251028T204347Z
LAST-MODIFIED:20251121T020250Z
UID:7692-1764849600-1764856800@tilos.ai
SUMMARY:Networking Lunch Reception at NeurIPS 2025
DESCRIPTION:TILOS will host a networking lunch reception during NeurIPS 2025 at Mezé Greek Fusion from 12:00-2:00pm on Thursday\, December 4\, 2025. This event is open to all NeurIPS attendees affiliated with any of the NSF AI Research Institutes\, as well as invited industry partners. Join us to connect with colleagues across the network of NSF AI Institutes\, share research interests\, and explore opportunities for collaboration. \nRegistration has closed. Please contact tilos@ucsd.edu with any questions. \n? Date: Thursday\, December 4\, 2025? Time: 12:00 – 2:00pm PST? Location: Mezé Greek Fusion (3 blocks from the conference venue)
URL:https://tilos.ai/event/networking-lunch-reception-at-neurips-2025/
LOCATION:Mezé Greek Fusion\, San Diego\, CA\, United States
CATEGORIES:TILOS Sponsored Event
ATTACH;FMTTYPE=image/png:https://tilos.ai/wp-content/uploads/2025/08/TILOS_Tree_Icon-e1743456398274-3qc6Qj.png
END:VEVENT
END:VCALENDAR