BEGIN:VCALENDAR
VERSION:2.0
PRODID:-// - ECPv6.15.20//NONSGML v1.0//EN
CALSCALE:GREGORIAN
METHOD:PUBLISH
X-ORIGINAL-URL:https://tilos.ai
X-WR-CALDESC:Events for 
REFRESH-INTERVAL;VALUE=DURATION:PT1H
X-Robots-Tag:noindex
X-PUBLISHED-TTL:PT1H
BEGIN:VTIMEZONE
TZID:America/Los_Angeles
BEGIN:DAYLIGHT
TZOFFSETFROM:-0800
TZOFFSETTO:-0700
TZNAME:PDT
DTSTART:20250309T100000
END:DAYLIGHT
BEGIN:STANDARD
TZOFFSETFROM:-0700
TZOFFSETTO:-0800
TZNAME:PST
DTSTART:20251102T090000
END:STANDARD
BEGIN:DAYLIGHT
TZOFFSETFROM:-0800
TZOFFSETTO:-0700
TZNAME:PDT
DTSTART:20260308T100000
END:DAYLIGHT
BEGIN:STANDARD
TZOFFSETFROM:-0700
TZOFFSETTO:-0800
TZNAME:PST
DTSTART:20261101T090000
END:STANDARD
BEGIN:DAYLIGHT
TZOFFSETFROM:-0800
TZOFFSETTO:-0700
TZNAME:PDT
DTSTART:20270314T100000
END:DAYLIGHT
BEGIN:STANDARD
TZOFFSETFROM:-0700
TZOFFSETTO:-0800
TZNAME:PST
DTSTART:20271107T090000
END:STANDARD
END:VTIMEZONE
BEGIN:VEVENT
DTSTART;VALUE=DATE:20260111
DTEND;VALUE=DATE:20260117
DTSTAMP:20260423T144912
CREATED:20251209T233013Z
LAST-MODIFIED:20251209T233013Z
UID:7981-1768089600-1768607999@tilos.ai
SUMMARY:Gordon Research Conference on Embodied Intelligence
DESCRIPTION:The Robotics GRC is a premier\, international scientific conference focused on advancing the frontiers of science through the presentation of cutting-edge and unpublished research\, prioritizing time for discussion after each talk and fostering informal interactions among scientists of all career stages. The conference program includes an array of speakers and discussion leaders from institutions and organizations worldwide\, concentrating on the latest developments in the field. The conference is five days long and held in a remote location to increase the sense of camaraderie and create scientific communities\, with lasting collaborations and friendships. In addition to premier talks\, the conference has designated time for poster sessions from individuals of all career stages\, and afternoon free time and communal meals allow for informal networking opportunities with leaders in the field. \nThis year’s conference will focus on adaptive behavior and learning in animals and robots. We will explore how biological inspiration drives advancements in robotics\, from simple reactive behaviors to complex planning and learning systems. Insights from biomechanics\, neuroscience\, and animal studies are increasingly shaping the design and control of robots\, making them more robust and adaptable. A key focus will be on embodied intelligence\, enabling robots to excel in locomotion\, manipulation\, and interactions with other agents. \nConversely\, robotics research is also contributing to biology. Studies of perception and action in robotic systems are leading to new mathematical models that help integrative biologists understand locomotion\, manipulation\, and collective behavior in animals. \nBy bringing together experts from robotics\, biomechanics\, and neuroscience\, this conference aims to foster cross-disciplinary insights that will push the boundaries of both fields. \nJoin us for a dynamic exchange of ideas at the intersection of robotics and biology\, where engineering meets evolution.
URL:https://tilos.ai/event/gordon-research-conference-on-embodied-intelligence/
LOCATION:Four Points Sheraton / Holiday Inn Express\, 1050 Schooner Drive\, Ventura\, CA\, 93001\, United States
CATEGORIES:TILOS Sponsored Event
ATTACH;FMTTYPE=image/jpeg:https://tilos.ai/wp-content/uploads/2025/12/fourpoints.jpg
END:VEVENT
END:VCALENDAR